Workbook
Name duration: Summary!#REF!
Name duration: 'Construction Support'!#REF!

Sheet Summary
C1: CONTRACTOR COST WORKBOOK: | D1: Union High School | I1: =#REF!+60 -> #REF!
C2: NAME OF CM FIRM
C4: ESTIMATED COST OF THE WORK: | D4: 5326740
C5: CONSTRUCTION DELIVERY METHOD: | D5: CMc | E5: =LOOKUP(D5,L7:L11,M7:M11) -> Construction Manager as Constructor
D7: Preconstruction | F7: Construction | L7: CMc | M7: Construction Manager as Constructor
C8: START DATE: | D8: 46388 | F8: 46553 | L8: CMa | M8: Construction Manager as Advisor
C9: FINISH DATE: | D9: 46706 | F9: 46970 | L9: DB | M9: Design-Build, with GMP or Cost plus a Fee
L10: GC | M10: General Contractor, with GMP or Cost plus a Fee
E11: Months | F11: Weeks | G11: Days | L11: TBD | M11: To be Determined
C12: PROJECT DURATION: | D12: Pre-construction | E12: =G12/30 -> 10.6 | F12: =G12/7 -> 45.428571 | G12: =D9-D8 -> 318
D13: Construction | E13: =G13/30 -> 13.9 | F13: =G13/7 -> 59.571429 | G13: =F9-F8 -> 417
C15: ESTIMATED BUILDING AREA: | D15: 264800 | F15: Sq. Ft.
B17: GENERAL CONDITIONS RECAP SUMMARY
G18: EQ. & MATL. | H18: LABOR | I18: SUB-CON | J18: TOTAL
C19: DESCRIPTION | G19: TOTAL | H19: TOTAL | I19: TOTAL | J19: COST
C20: PRECONSTRUCTION SERVICES | G20: 0 | H20: ='Staff Hours'!AT28 -> 400 | I20: 0 | J20: =SUM(G20:I20) -> 400
C21: PRECONSTRUCTION SERVICES REIMBURSABLE EXPENSES | G21: 0 | I21: 0 | J21: =SUM(G21:I21) -> 0
C22: CONSTRUCTION PERSONNEL | G22: 0 | H22: ='Staff Hours'!AT56 -> 400 | I22: 0 | J22: =SUM(G22:I22) -> 400
C23: CM REIMBURSABLES | G23: ='Construction Support'!G30 -> 0 | H23: ='Construction Support'!H30 -> 0 | I23: ='Construction Support'!I30 -> 0 | J23: =SUM(G23:I23) -> 0
C24: PERMITS, INSURANCE & TAXES | G24: ='Construction Support'!G42 -> 10 | H24: ='Construction Support'!H42 -> 0 | I24: ='Construction Support'!I42 -> 0 | J24: =SUM(G24:I24) -> 10
C26: TOTAL GENERAL CONDITIONS | G26: =SUM(G20:G25) -> 10 | H26: =SUM(H20:H25) -> 800 | I26: =SUM(I20:I25) -> 0 | J26: =SUM(J20:J25) -> 810
I28: GENERAL CONDITIONS AS % OF CONSTRUCTION COST = | J28: =IF(D4>0,J26/D4,"N/A") -> 0.00015206299
I29: CONSTRUCTION MANAGER'S OVERHEAD & PROFIT (%) =
C31: Voluntary Alternate Add: | D31: 0 | E31: Project Managed Under Prevailing Wage Rules
I32: Preconstruction Hours: | J32: ='Staff Cashflow'!AD29 -> 40
I33: Construction Hours: | J33: ='Staff Cashflow'!AD57 -> 40
I35: TOTAL ESTIMATED CONSTRUCTION SERVICES AS % OF CONSTRUCTION COST = | J35: =SUM(J28:J31) -> 0.00015206299
I36: TOTAL ESTIMATED CONSTRUCTION SERVICES COST = | J36: =J35*D4 -> 810
B38: NOTES:
C39: 1. Personnel rates include the salaries of personnel and the portion of the cost of their mandatory and customary contributions and benefits related thereto, such as employment taxes and other statutory employee benefits, insurance, sick leave, holidays, vacations, pensions, and similar contributions and benefits. 2. Personnel rate increases are limited to three (3%) percent per year, after 12/31/2025. Hourly Rates shall be based on a forty (40) hour work week/salaried position and while the Construction Manager’s Personnel may work overtime, the Owner shall never be charged overtime rates. 3. General Liability Insurance may only be applied to Construction Manager’s Fee, and not the Cost of the Work

Sheet Staff Hours
A2: NAME OF CM FIRM | B2: =Summary!D2 -> 0
E3: Populate all staff and associated rates you intend to charge to the project. Add any staff you intend to charge.
E4: SUMMARY OF STAFF HOURS
B5: Project Month (Overall) | E5: 1 | F5: =E5+1 -> 2 | G5: =F5+1 -> 3 | H5: =G5+1 -> 4 | I5: =H5+1 -> 5 | J5: =I5+1 -> 6 | K5: =J5+1 -> 7 | L5: =K5+1 -> 8 | M5: =L5+1 -> 9 | ... AR5: =AQ5+1 -> 40
E6: 2024 | K6: 2025 | W6: 2026 | AI6: 2027
E7: 45475 | F7: 45506 | G7: 45537 | H7: 45567 | I7: 45598 | J7: 45628 | K7: 45659 | L7: 45690 | M7: 45718 | N7: 45750 | O7: 45781 | P7: 45813 | Q7: 45844 | R7: 45876 | S7: 45908 | T7: 45939 | U7: 45971 | V7: 46002 | W7: 46024 | X7: 46055 | Y7: 46083 | Z7: 46115 | AA7: 46146 | AB7: 46178 | AC7: 46209 | AD7: 46240 | AE7: 46271 | AF7: 46301 | AG7: 46327 | AH7: 46357 | AI7: 46388 | AJ7: 46419 | AK7: 46447 | AL7: 46478 | AM7: 46508 | AN7: 46539 | AO7: 46569 | AP7: 46600 | AQ7: 46631 | AR7: 46661
E9: Pre-Construction Phase Project Hours | AS9: Pre-Construction
A10: Personnel/Name | B10: Function | C10: Hourly Rate | AS10: Hours | AT10: Cost
B11: Project Exec. | C11: 0 | AS11: =SUM(E11:AR11) -> 0 | AT11: =C11*AS11 -> 0
A12: Joe 'Example' Dirt | B12: Sr. Proj. Mgr. | C12: 10 | E12: 1 | F12: 1 | G12: 1 | H12: 1 | I12: 1 | J12: 1 | K12: 1 | L12: 1 | M12: 1 | N12: 1 | O12: 1 | P12: 1 | Q12: 1 | R12: 1 | S12: 1 | T12: 1 | U12: 1 | V12: 1 | W12: 1 | X12: 1 | Y12: 1 | Z12: 1 | AA12: 1 | AB12: 1 | AC12: 1 | AD12: 1 | AE12: 1 | AF12: 1 | AG12: 1 | AH12: 1 | AI12: 1 | AJ12: 1 | AK12: 1 | AL12: 1 | AM12: 1 | AN12: 1 | AO12: 1 | AP12: 1 | AQ12: 1 | AR12: 1 | AS12: =SUM(E12:AR12) -> 40 | AT12: =C12*AS12 -> 400
B13: Proj. Mgr. 1 | C13: 0 | AS13: =SUM(E13:AR13) -> 0 | AT13: =C13*AS13 -> 0
B14: Pre-Con Mgr. | C14: 0 | AS14: =SUM(E14:AR14) -> 0 | AT14: =C14*AS14 -> 0
B15: Sr. Estimator | C15: 0 | AS15: =SUM(E15:AR15) -> 0 | AT15: =C15*AS15 -> 0
B16: Estimator 1 | C16: 0 | AS16: =SUM(E16:AR16) -> 0 | AT16: =C16*AS16 -> 0
B17: Mech. Est. | C17: 0 | AS17: =SUM(E17:AR17) -> 0 | AT17: =C17*AS17 -> 0
B18: Elect. Est. | C18: 0 | AS18: =SUM(E18:AR18) -> 0 | AT18: =C18*AS18 -> 0
B19: Scheduler | C19: 0 | AS19: =SUM(E19:AR19) -> 0 | AT19: =C19*AS19 -> 0
B20: Proj. Supt. | C20: 0 | AS20: =SUM(E20:AR20) -> 0 | AT20: =C20*AS20 -> 0
B21: Accountant | C21: 0 | AS21: =SUM(E21:AR21) -> 0 | AT21: =C21*AS21 -> 0
B22: Admin. Asst. | C22: 0 | AS22: =SUM(E22:AR22) -> 0 | AT22: =C22*AS22 -> 0
C23: 0 | AS23: =SUM(E23:AR23) -> 0 | AT23: =C23*AS23 -> 0
C24: 0 | AS24: =SUM(E24:AR24) -> 0 | AT24: =C24*AS24 -> 0
C25: 0 | AS25: =SUM(E25:AR25) -> 0 | AT25: =C25*AS25 -> 0
C26: 0 | AS26: =SUM(E26:AR26) -> 0 | AT26: =C26*AS26 -> 0
C27: 0 | AS27: =SUM(E27:AR27) -> 0 | AT27: =C27*AS27 -> 0
B28: Pre-Construction Hours: | E28: =SUM(E11:E27) -> 1 | F28: =SUM(F11:F27) -> 1 | G28: =SUM(G11:G27) -> 1 | H28: =SUM(H11:H27) -> 1 | I28: =SUM(I11:I27) -> 1 | J28: =SUM(J11:J27) -> 1 | K28: =SUM(K11:K27) -> 1 | L28: =SUM(L11:L27) -> 1 | ... AR28: =SUM(AR11:AR27) -> 1 | AS28: =SUM(E28:AR28) -> 40 | AT28: =SUM(AT11:AT27) -> 400
B30: Construction Months
E31: Construction Phase Project Hours | AS31: Construction
A32: Personnel/Name | B32: Function | C32: Hourly Rate | AS32: Hours | AT32: Cost
B33: Project Exec. | C33: 0 | AS33: =SUM(E33:AR33) -> 0 | AT33: =C33*AS33 -> 0
A34: Joe 'Example' Dirt | B34: Sr. Proj. Mgr. | C34: 10 | E34: 1 | F34: 1 | G34: 1 | H34: 1 | I34: 1 | J34: 1 | K34: 1 | L34: 1 | M34: 1 | N34: 1 | O34: 1 | P34: 1 | Q34: 1 | R34: 1 | S34: 1 | T34: 1 | U34: 1 | V34: 1 | W34: 1 | X34: 1 | Y34: 1 | Z34: 1 | AA34: 1 | AB34: 1 | AC34: 1 | AD34: 1 | AE34: 1 | AF34: 1 | AG34: 1 | AH34: 1 | AI34: 1 | AJ34: 1 | AK34: 1 | AL34: 1 | AM34: 1 | AN34: 1 | AO34: 1 | AP34: 1 | AQ34: 1 | AR34: 1 | AS34: =SUM(E34:AR34) -> 40 | AT34: =C34*AS34 -> 400
B35: Proj. Mgr. 1 | C35: 0 | AS35: =SUM(E35:AR35) -> 0 | AT35: =C35*AS35 -> 0
B36: Proj. Mgr. 2 | C36: 0 | AS36: =SUM(E36:AR36) -> 0 | AT36: =C36*AS36 -> 0
B37: Proj. Mgr. 3 | C37: 0 | AS37: =SUM(E37:AR37) -> 0 | AT37: =C37*AS37 -> 0
B38: Proj. Mgr. 4 | C38: 0 | AS38: =SUM(E38:AR38) -> 0 | AT38: =C38*AS38 -> 0
B39: Proj. Engr. 1 | C39: 0 | AS39: =SUM(E39:AR39) -> 0 | AT39: =C39*AS39 -> 0
B40: Proj. Engr. 2 | C40: 0 | AS40: =SUM(E40:AR40) -> 0 | AT40: =C40*AS40 -> 0
B41: Proj. Engr. 3 | C41: 0 | AS41: =SUM(E41:AR41) -> 0 | AT41: =C41*AS41 -> 0
B42: Proj. Engr. 4 | C42: 0 | AS42: =SUM(E42:AR42) -> 0 | AT42: =C42*AS42 -> 0
B43: Safety Engr. | C43: 0 | AS43: =SUM(E43:AR43) -> 0 | AT43: =C43*AS43 -> 0
...

Sheet Construction Support
C2: NAME OF CM FIRM | D2: =Summary!D2 -> 0
D5: Preconstruction | F5: Construction
C6: START DATE: | D6: =Summary!D8 -> 46388 | F6: =Summary!F8 -> 46553
C7: FINISH DATE: | D7: =Summary!D9 -> 46706 | F7: =Summary!F9 -> 46970
C9: Populate all categories you intend to charge to the project. Add any other costs you intend to charge.
E10: Months | F10: Weeks | G10: Days
C11: PROJECT DURATION: | D11: Pre-construction | E11: =G11/30 -> 10.6 | F11: =G11/7 -> 45.428571 | G11: =D7-D6 -> 318
D12: Construction | E12: =G12/30 -> 13.9 | F12: =G12/7 -> 59.571429 | G12: =F7-F6 -> 417
B14: CODE | C14: DESCRIPTION | D14: QTY. | E14: UNIT | F14: UNIT | G14: (E) EQUIP. & | I14: (S) SUB- | J14: TOTAL
B15: NO. | F15: PRICE | G15: MAT'L | H15: (L) LABOR | I15: CONTRACTOR | J15: COST
C17: CM REIMBURSABLES
A19: E | C19: TEMPORARY TOILETS - 1 | E19: MO | G19: =IF($A19="E",D19*F19,0) -> 0 | H19: =IF($A19="L",D19*F19,0) -> 0 | I19: =IF($A19="S",D19*F19,0) -> 0 | J19: =D19*F19 -> 0 | K19: =SUM(G19:I19)=J19 -> TRUE
A20: E | C20: TEMPORARY TOILETS - 2 | E20: MO | G20: =IF($A20="E",D20*F20,0) -> 0 | H20: =IF($A20="L",D20*F20,0) -> 0 | I20: =IF($A20="S",D20*F20,0) -> 0 | J20: =D20*F20 -> 0 | K20: =SUM(G20:I20)=J20 -> TRUE
C21: DUMPSTERS | E21: LS | G21: =IF($A21="E",D21*F21,0) -> 0 | H21: =IF($A21="L",D21*F21,0) -> 0 | I21: =IF($A21="S",D21*F21,0) -> 0 | J21: =D21*F21 -> 0 | K21: =SUM(G21:I21)=J21 -> TRUE
C22: TEMPORARY FENCE | E22: MO | G22: =IF($A22="E",D22*F22,0) -> 0 | H22: =IF($A22="L",D22*F22,0) -> 0 | I22: =IF($A22="S",D22*F22,0) -> 0 | J22: =D22*F22 -> 0 | K22: =SUM(G22:I22)=J22 -> TRUE
G23: =IF($A23="E",D23*F23,0) -> 0 | H23: =IF($A23="L",D23*F23,0) -> 0 | I23: =IF($A23="S",D23*F23,0) -> 0 | J23: =D23*F23 -> 0 | K23: =SUM(G23:I23)=J23 -> TRUE
G24: =IF($A24="E",D24*F24,0) -> 0 | H24: =IF($A24="L",D24*F24,0) -> 0 | I24: =IF($A24="S",D24*F24,0) -> 0 | J24: =D24*F24 -> 0 | K24: =SUM(G24:I24)=J24 -> TRUE
G25: =IF($A25="E",D25*F25,0) -> 0 | H25: =IF($A25="L",D25*F25,0) -> 0 | I25: =IF($A25="S",D25*F25,0) -> 0 | J25: =D25*F25 -> 0 | K25: =SUM(G25:I25)=J25 -> TRUE
G26: =IF($A26="E",D26*F26,0) -> 0 | H26: =IF($A26="L",D26*F26,0) -> 0 | I26: =IF($A26="S",D26*F26,0) -> 0 | J26: =D26*F26 -> 0 | K26: =SUM(G26:I26)=J26 -> TRUE
G27: =IF($A27="E",D27*F27,0) -> 0 | H27: =IF($A27="L",D27*F27,0) -> 0 | I27: =IF($A27="S",D27*F27,0) -> 0 | J27: =D27*F27 -> 0 | K27: =SUM(G27:I27)=J27 -> TRUE
G28: =IF($A28="E",D28*F28,0) -> 0 | H28: =IF($A28="L",D28*F28,0) -> 0 | I28: =IF($A28="S",D28*F28,0) -> 0 | J28: =D28*F28 -> 0 | K28: =SUM(G28:I28)=J28 -> TRUE
C30: CM REIMBURSABLES TOTAL | G30: =SUM(G19:G29) -> 0 | H30: =SUM(H19:H29) -> 0 | I30: =SUM(I19:I29) -> 0 | J30: =SUM(J19:J29) -> 0
C32: PERMITS, INSURANCE & TAXES
A34: E | C34: BUILDING PERMIT | D34: 1 | E34: LS | F34: 10 | G34: =IF($A34="E",D34*F34,0) -> 10 | H34: =IF($A34="L",D34*F34,0) -> 0 | I34: =IF($A34="S",D34*F34,0) -> 0 | J34: =D34*F34 -> 10 | K34: =SUM(G34:I34)=J34 -> TRUE
A35: E | C35: SPECIAL PERMITS | E35: LS | G35: =IF($A35="E",D35*F35,0) -> 0 | H35: =IF($A35="L",D35*F35,0) -> 0 | I35: =IF($A35="S",D35*F35,0) -> 0 | J35: =D35*F35 -> 0 | K35: =SUM(G35:I35)=J35 -> TRUE
A36: E | C36: SPECIAL FEES | E36: LS | G36: =IF($A36="E",D36*F36,0) -> 0 | H36: =IF($A36="L",D36*F36,0) -> 0 | I36: =IF($A36="S",D36*F36,0) -> 0 | J36: =D36*F36 -> 0 | K36: =SUM(G36:I36)=J36 -> TRUE
A37: E | C37: SITE PLAN REVIEW | E37: LS | G37: =IF($A37="E",D37*F37,0) -> 0 | H37: =IF($A37="L",D37*F37,0) -> 0 | I37: =IF($A37="S",D37*F37,0) -> 0 | J37: =D37*F37 -> 0 | K37: =SUM(G37:I37)=J37 -> TRUE
A38: E | C38: BUILDERS RISK INSURANCE | E38: LS | G38: =IF($A38="E",D38*F38,0) -> 0 | H38: =IF($A38="L",D38*F38,0) -> 0 | I38: =IF($A38="S",D38*F38,0) -> 0 | J38: =D38*F38 -> 0 | K38: =SUM(G38:I38)=J38 -> TRUE
C39: 100% PLM Bond | E39: % | G39: =IF($A39="E",D39*F39,0) -> 0 | H39: =IF($A39="L",D39*F39,0) -> 0 | I39: =IF($A39="S",D39*F39,0) -> 0 | J39: =D39*F39 -> 0 | K39: TRUE
A40: E | C40: GENERAL LIABILITY INSURANCE | E40: LS | G40: =IF($A40="E",D40*F40,0) -> 0 | H40: =IF($A40="L",D40*F40,0) -> 0 | I40: =IF($A40="S",D40*F40,0) -> 0 | J40: =D40*F40 -> 0 | K40: =SUM(G40:I40)=J40 -> TRUE
C42: PERMITS, INSURANCE & TAXES TOTAL | G42: =SUM(G34:G40) -> 10 | H42: =SUM(H34:H40) -> 0 | I42: =SUM(I34:I40) -> 0 | J42: =SUM(J34:J40) -> 10
C44: SUMMARY & ERROR CHECK
C45: LABOR SUBTOTAL: | D45: =SUMIF($A16:$A43,"L",H$16:H$43) -> 0 | E45: =(H30+H42)=D45 -> TRUE
C46: TOTAL: | D46: =J30+J42 -> 10 | E46: =SUM(D45:D45)=D46 -> FALSE

Sheet Staff Cashflow
A2: NAME OF CM FIRM | B2: =Summary!B2 -> 0
E5: STAFFING CASHFLOW
B6: Project Month (Overall) | E6: 1 | F6: =E6+1 -> 2 | G6: =F6+1 -> 3 | H6: =G6+1 -> 4 | I6: =H6+1 -> 5 | J6: =I6+1 -> 6 | K6: =J6+1 -> 7 | L6: =K6+1 -> 8 | M6: =L6+1 -> 9 | ... AC6: =AB6+1 -> 25
E7: 2024 | Q7: 2025
E8: 45311 | F8: 45342 | G8: 45371 | H8: 45402 | I8: 45432 | J8: 45463 | K8: 45493 | L8: 45524 | M8: 45555 | N8: 45585 | O8: 45616 | P8: 45646 | Q8: 45677 | R8: 45708 | S8: 45736
E10: Pre-Construction Phase Project Hours | AD10: Pre-Construction
A11: Personnel | B11: Function | C11: Hrly Rate | AD11: Hours | AE11: Cost
A12: ='Staff Hours'!A11 -> 0 | B12: ='Staff Hours'!B11 -> Project Exec. | C12: ='Staff Hours'!C11 -> 0 | E12: ='Staff Hours'!E11*'Staff Hours'!$C11 -> 0 | F12: ='Staff Hours'!F11*'Staff Hours'!$C11 -> 0 | G12: ='Staff Hours'!G11*'Staff Hours'!$C11 -> 0 | H12: ='Staff Hours'!H11*'Staff Hours'!$C11 -> 0 | I12: ='Staff Hours'!I11*'Staff Hours'!$C11 -> 0 | J12: ='Staff Hours'!J11*'Staff Hours'!$C11 -> 0 | K12: ='Staff Hours'!K11*'Staff Hours'!$C11 -> 0 | L12: ='Staff Hours'!L11*'Staff Hours'!$C11 -> 0 | ... AB12: ='Staff Hours'!AB11*'Staff Hours'!$C11 -> 0 | AC12: ='Staff Hours'!AR11*'Staff Hours'!$C11 -> 0 | AD12: ='Staff Hours'!AS11 -> 0 | AE12: =C12*AD12 -> 0
A13: ='Staff Hours'!A12 -> Joe 'Example' Dirt | B13: ='Staff Hours'!B12 -> Sr. Proj. Mgr. | C13: ='Staff Hours'!C12 -> 10 | E13: ='Staff Hours'!E12*'Staff Hours'!$C12 -> 10 | F13: ='Staff Hours'!F12*'Staff Hours'!$C12 -> 10 | G13: ='Staff Hours'!G12*'Staff Hours'!$C12 -> 10 | H13: ='Staff Hours'!H12*'Staff Hours'!$C12 -> 10 | I13: ='Staff Hours'!I12*'Staff Hours'!$C12 -> 10 | J13: ='Staff Hours'!J12*'Staff Hours'!$C12 -> 10 | K13: ='Staff Hours'!K12*'Staff Hours'!$C12 -> 10 | L13: ='Staff Hours'!L12*'Staff Hours'!$C12 -> 10 | ... AB13: ='Staff Hours'!AB12*'Staff Hours'!$C12 -> 10 | AC13: ='Staff Hours'!AR12*'Staff Hours'!$C12 -> 10 | AD13: ='Staff Hours'!AS12 -> 40 | AE13: =C13*AD13 -> 400
A14: ='Staff Hours'!A13 -> 0 | B14: ='Staff Hours'!B13 -> Proj. Mgr. 1 | C14: ='Staff Hours'!C13 -> 0 | E14: ='Staff Hours'!E13*'Staff Hours'!$C13 -> 0 | F14: ='Staff Hours'!F13*'Staff Hours'!$C13 -> 0 | G14: ='Staff Hours'!G13*'Staff Hours'!$C13 -> 0 | H14: ='Staff Hours'!H13*'Staff Hours'!$C13 -> 0 | I14: ='Staff Hours'!I13*'Staff Hours'!$C13 -> 0 | J14: ='Staff Hours'!J13*'Staff Hours'!$C13 -> 0 | K14: ='Staff Hours'!K13*'Staff Hours'!$C13 -> 0 | L14: ='Staff Hours'!L13*'Staff Hours'!$C13 -> 0 | ... AB14: ='Staff Hours'!AB13*'Staff Hours'!$C13 -> 0 | AC14: ='Staff Hours'!AR13*'Staff Hours'!$C13 -> 0 | AD14: ='Staff Hours'!AS13 -> 0 | AE14: =C14*AD14 -> 0
A15: ='Staff Hours'!A14 -> 0 | B15: ='Staff Hours'!B14 -> Pre-Con Mgr. | C15: ='Staff Hours'!C14 -> 0 | E15: ='Staff Hours'!E14*'Staff Hours'!$C14 -> 0 | F15: ='Staff Hours'!F14*'Staff Hours'!$C14 -> 0 | G15: ='Staff Hours'!G14*'Staff Hours'!$C14 -> 0 | H15: ='Staff Hours'!H14*'Staff Hours'!$C14 -> 0 | I15: ='Staff Hours'!I14*'Staff Hours'!$C14 -> 0 | J15: ='Staff Hours'!J14*'Staff Hours'!$C14 -> 0 | K15: ='Staff Hours'!K14*'Staff Hours'!$C14 -> 0 | L15: ='Staff Hours'!L14*'Staff Hours'!$C14 -> 0 | ... AB15: ='Staff Hours'!AB14*'Staff Hours'!$C14 -> 0 | AC15: ='Staff Hours'!AR14*'Staff Hours'!$C14 -> 0 | AD15: ='Staff Hours'!AS14 -> 0 | AE15: =C15*AD15 -> 0
A16: ='Staff Hours'!A15 -> 0 | B16: ='Staff Hours'!B15 -> Sr. Estimator | C16: ='Staff Hours'!C15 -> 0 | E16: ='Staff Hours'!E15*'Staff Hours'!$C15 -> 0 | F16: ='Staff Hours'!F15*'Staff Hours'!$C15 -> 0 | G16: ='Staff Hours'!G15*'Staff Hours'!$C15 -> 0 | H16: ='Staff Hours'!H15*'Staff Hours'!$C15 -> 0 | I16: ='Staff Hours'!I15*'Staff Hours'!$C15 -> 0 | J16: ='Staff Hours'!J15*'Staff Hours'!$C15 -> 0 | K16: ='Staff Hours'!K15*'Staff Hours'!$C15 -> 0 | L16: ='Staff Hours'!L15*'Staff Hours'!$C15 -> 0 | ... AB16: ='Staff Hours'!AB15*'Staff Hours'!$C15 -> 0 | AC16: ='Staff Hours'!AR15*'Staff Hours'!$C15 -> 0 | AD16: ='Staff Hours'!AS15 -> 0 | AE16: =C16*AD16 -> 0
A17: ='Staff Hours'!A16 -> 0 | B17: ='Staff Hours'!B16 -> Estimator 1 | C17: ='Staff Hours'!C16 -> 0 | E17: ='Staff Hours'!E16*'Staff Hours'!$C16 -> 0 | F17: ='Staff Hours'!F16*'Staff Hours'!$C16 -> 0 | G17: ='Staff Hours'!G16*'Staff Hours'!$C16 -> 0 | H17: ='Staff Hours'!H16*'Staff Hours'!$C16 -> 0 | I17: ='Staff Hours'!I16*'Staff Hours'!$C16 -> 0 | J17: ='Staff Hours'!J16*'Staff Hours'!$C16 -> 0 | K17: ='Staff Hours'!K16*'Staff Hours'!$C16 -> 0 | L17: ='Staff Hours'!L16*'Staff Hours'!$C16 -> 0 | ... AB17: ='Staff Hours'!AB16*'Staff Hours'!$C16 -> 0 | AC17: ='Staff Hours'!AR16*'Staff Hours'!$C16 -> 0 | AD17: ='Staff Hours'!AS16 -> 0 | AE17: =C17*AD17 -> 0
A18: ='Staff Hours'!A17 -> 0 | B18: ='Staff Hours'!B17 -> Mech. Est. | C18: ='Staff Hours'!C17 -> 0 | E18: ='Staff Hours'!E17*'Staff Hours'!$C17 -> 0 | F18: ='Staff Hours'!F17*'Staff Hours'!$C17 -> 0 | G18: ='Staff Hours'!G17*'Staff Hours'!$C17 -> 0 | H18: ='Staff Hours'!H17*'Staff Hours'!$C17 -> 0 | I18: ='Staff Hours'!I17*'Staff Hours'!$C17 -> 0 | J18: ='Staff Hours'!J17*'Staff Hours'!$C17 -> 0 | K18: ='Staff Hours'!K17*'Staff Hours'!$C17 -> 0 | L18: ='Staff Hours'!L17*'Staff Hours'!$C17 -> 0 | ... AB18: ='Staff Hours'!AB17*'Staff Hours'!$C17 -> 0 | AC18: ='Staff Hours'!AR17*'Staff Hours'!$C17 -> 0 | AD18: ='Staff Hours'!AS17 -> 0 | AE18: =C18*AD18 -> 0
A19: ='Staff Hours'!A18 -> 0 | B19: ='Staff Hours'!B18 -> Elect. Est. | C19: ='Staff Hours'!C18 -> 0 | E19: ='Staff Hours'!E18*'Staff Hours'!$C18 -> 0 | F19: ='Staff Hours'!F18*'Staff Hours'!$C18 -> 0 | G19: ='Staff Hours'!G18*'Staff Hours'!$C18 -> 0 | H19: ='Staff Hours'!H18*'Staff Hours'!$C18 -> 0 | I19: ='Staff Hours'!I18*'Staff Hours'!$C18 -> 0 | J19: ='Staff Hours'!J18*'Staff Hours'!$C18 -> 0 | K19: ='Staff Hours'!K18*'Staff Hours'!$C18 -> 0 | L19: ='Staff Hours'!L18*'Staff Hours'!$C18 -> 0 | ... AB19: ='Staff Hours'!AB18*'Staff Hours'!$C18 -> 0 | AC19: ='Staff Hours'!AR18*'Staff Hours'!$C18 -> 0 | AD19: ='Staff Hours'!AS18 -> 0 | AE19: =C19*AD19 -> 0
A20: ='Staff Hours'!A19 -> 0 | B20: ='Staff Hours'!B19 -> Scheduler | C20: ='Staff Hours'!C19 -> 0 | E20: ='Staff Hours'!E19*'Staff Hours'!$C19 -> 0 | F20: ='Staff Hours'!F19*'Staff Hours'!$C19 -> 0 | G20: ='Staff Hours'!G19*'Staff Hours'!$C19 -> 0 | H20: ='Staff Hours'!H19*'Staff Hours'!$C19 -> 0 | I20: ='Staff Hours'!I19*'Staff Hours'!$C19 -> 0 | J20: ='Staff Hours'!J19*'Staff Hours'!$C19 -> 0 | K20: ='Staff Hours'!K19*'Staff Hours'!$C19 -> 0 | L20: ='Staff Hours'!L19*'Staff Hours'!$C19 -> 0 | ... AB20: ='Staff Hours'!AB19*'Staff Hours'!$C19 -> 0 | AC20: ='Staff Hours'!AR19*'Staff Hours'!$C19 -> 0 | AD20: ='Staff Hours'!AS19 -> 0 | AE20: =C20*AD20 -> 0
A21: ='Staff Hours'!A20 -> 0 | B21: ='Staff Hours'!B20 -> Proj. Supt. | C21: ='Staff Hours'!C20 -> 0 | E21: ='Staff Hours'!E20*'Staff Hours'!$C20 -> 0 | F21: ='Staff Hours'!F20*'Staff Hours'!$C20 -> 0 | G21: ='Staff Hours'!G20*'Staff Hours'!$C20 -> 0 | H21: ='Staff Hours'!H20*'Staff Hours'!$C20 -> 0 | I21: ='Staff Hours'!I20*'Staff Hours'!$C20 -> 0 | J21: ='Staff Hours'!J20*'Staff Hours'!$C20 -> 0 | K21: ='Staff Hours'!K20*'Staff Hours'!$C20 -> 0 | L21: ='Staff Hours'!L20*'Staff Hours'!$C20 -> 0 | ... AB21: ='Staff Hours'!AB20*'Staff Hours'!$C20 -> 0 | AC21: ='Staff Hours'!AR20*'Staff Hours'!$C20 -> 0 | AD21: ='Staff Hours'!AS20 -> 0 | AE21: =C21*AD21 -> 0
A22: ='Staff Hours'!A21 -> 0 | B22: ='Staff Hours'!B21 -> Accountant | C22: ='Staff Hours'!C21 -> 0 | E22: ='Staff Hours'!E21*'Staff Hours'!$C21 -> 0 | F22: ='Staff Hours'!F21*'Staff Hours'!$C21 -> 0 | G22: ='Staff Hours'!G21*'Staff Hours'!$C21 -> 0 | H22: ='Staff Hours'!H21*'Staff Hours'!$C21 -> 0 | I22: ='Staff Hours'!I21*'Staff Hours'!$C21 -> 0 | J22: ='Staff Hours'!J21*'Staff Hours'!$C21 -> 0 | K22: ='Staff Hours'!K21*'Staff Hours'!$C21 -> 0 | L22: ='Staff Hours'!L21*'Staff Hours'!$C21 -> 0 | ... AB22: ='Staff Hours'!AB21*'Staff Hours'!$C21 -> 0 | AC22: ='Staff Hours'!AR21*'Staff Hours'!$C21 -> 0 | AD22: ='Staff Hours'!AS21 -> 0 | AE22: =C22*AD22 -> 0
A23: ='Staff Hours'!A22 -> 0 | B23: ='Staff Hours'!B22 -> Admin. Asst. | C23: ='Staff Hours'!C22 -> 0 | E23: ='Staff Hours'!E22*'Staff Hours'!$C22 -> 0 | F23: ='Staff Hours'!F22*'Staff Hours'!$C22 -> 0 | G23: ='Staff Hours'!G22*'Staff Hours'!$C22 -> 0 | H23: ='Staff Hours'!H22*'Staff Hours'!$C22 -> 0 | I23: ='Staff Hours'!I22*'Staff Hours'!$C22 -> 0 | J23: ='Staff Hours'!J22*'Staff Hours'!$C22 -> 0 | K23: ='Staff Hours'!K22*'Staff Hours'!$C22 -> 0 | L23: ='Staff Hours'!L22*'Staff Hours'!$C22 -> 0 | ... AB23: ='Staff Hours'!AB22*'Staff Hours'!$C22 -> 0 | AC23: ='Staff Hours'!AR22*'Staff Hours'!$C22 -> 0 | AD23: ='Staff Hours'!AS22 -> 0 | AE23: =C23*AD23 -> 0
... A28: ='Staff Hours'!A27 -> 0 | B28: ='Staff Hours'!B27 -> 0 | C28: ='Staff Hours'!C27 -> 0 | E28: ='Staff Hours'!E27*'Staff Hours'!$C27 -> 0 | F28: ='Staff Hours'!F27*'Staff Hours'!$C27 -> 0 | G28: ='Staff Hours'!G27*'Staff Hours'!$C27 -> 0 | H28: ='Staff Hours'!H27*'Staff Hours'!$C27 -> 0 | I28: ='Staff Hours'!I27*'Staff Hours'!$C27 -> 0 | J28: ='Staff Hours'!J27*'Staff Hours'!$C27 -> 0 | K28: ='Staff Hours'!K27*'Staff Hours'!$C27 -> 0 | L28: ='Staff Hours'!L27*'Staff Hours'!$C27 -> 0 | ... AB28: ='Staff Hours'!AB27*'Staff Hours'!$C27 -> 0 | AC28: ='Staff Hours'!AR27*'Staff Hours'!$C27 -> 0 | AD28: ='Staff Hours'!AS27 -> 0 | AE28: =C28*AD28 -> 0
B29: Pre-Con Staff Costs: | E29: =SUM(E12:E28) -> 10 | F29: =SUM(F12:F28) -> 10 | G29: =SUM(G12:G28) -> 10 | H29: =SUM(H12:H28) -> 10 | I29: =SUM(I12:I28) -> 10 | J29: =SUM(J12:J28) -> 10 | K29: =SUM(K12:K28) -> 10 | L29: =SUM(L12:L28) -> 10 | ... AE29: =SUM(AE12:AE28) -> 400 | AF29: =IF('Staff Cashflow'!AE29='Staff Hours'!AT28,"","Check")
B31: Construction Months
E32: Construction Phase Project Hours | AD32: Construction
A33: Personnel | B33: Function | C33: Hrly Rate | AD33: Hours | AE33: Cost
A34: ='Staff Hours'!A33 -> 0 | B34: ='Staff Hours'!B33 -> Project Exec. | C34: ='Staff Hours'!C33 -> 0 | E34: ='Staff Hours'!E33*'Staff Hours'!$C33 -> 0 | F34: ='Staff Hours'!F33*'Staff Hours'!$C33 -> 0 | G34: ='Staff Hours'!G33*'Staff Hours'!$C33 -> 0 | H34: ='Staff Hours'!H33*'Staff Hours'!$C33 -> 0 | I34: ='Staff Hours'!I33*'Staff Hours'!$C33 -> 0 | J34: ='Staff Hours'!J33*'Staff Hours'!$C33 -> 0 | K34: ='Staff Hours'!K33*'Staff Hours'!$C33 -> 0 | L34: ='Staff Hours'!L33*'Staff Hours'!$C33 -> 0 | ... AB34: ='Staff Hours'!AB33*'Staff Hours'!$C33 -> 0 | AC34: ='Staff Hours'!AR33*'Staff Hours'!$C33 -> 0 | AD34: ='Staff Hours'!AS33 -> 0 | AE34: =C34*AD34 -> 0
A35: ='Staff Hours'!A34 -> Joe 'Example' Dirt | B35: ='Staff Hours'!B34 -> Sr. Proj. Mgr. | C35: ='Staff Hours'!C34 -> 10 | E35: ='Staff Hours'!E34*'Staff Hours'!$C34 -> 10 | F35: ='Staff Hours'!F34*'Staff Hours'!$C34 -> 10 | G35: ='Staff Hours'!G34*'Staff Hours'!$C34 -> 10 | H35: ='Staff Hours'!H34*'Staff Hours'!$C34 -> 10 | I35: ='Staff Hours'!I34*'Staff Hours'!$C34 -> 10 | J35: ='Staff Hours'!J34*'Staff Hours'!$C34 -> 10 | K35: ='Staff Hours'!K34*'Staff Hours'!$C34 -> 10 | L35: ='Staff Hours'!L34*'Staff Hours'!$C34 -> 10 | ... AB35: ='Staff Hours'!AB34*'Staff Hours'!$C34 -> 10 | AC35: ='Staff Hours'!AR34*'Staff Hours'!$C34 -> 10 | AD35: ='Staff Hours'!AS34 -> 40 | AE35: =C35*AD35 -> 400
A36: ='Staff Hours'!A35 -> 0 | B36: ='Staff Hours'!B35 -> Proj. Mgr. 1 | C36: ='Staff Hours'!C35 -> 0 | E36: ='Staff Hours'!E35*'Staff Hours'!$C35 -> 0 | F36: ='Staff Hours'!F35*'Staff Hours'!$C35 -> 0 | G36: ='Staff Hours'!G35*'Staff Hours'!$C35 -> 0 | H36: ='Staff Hours'!H35*'Staff Hours'!$C35 -> 0 | I36: ='Staff Hours'!I35*'Staff Hours'!$C35 -> 0 | J36: ='Staff Hours'!J35*'Staff Hours'!$C35 -> 0 | K36: ='Staff Hours'!K35*'Staff Hours'!$C35 -> 0 | L36: ='Staff Hours'!L35*'Staff Hours'!$C35 -> 0 | ... AB36: ='Staff Hours'!AB35*'Staff Hours'!$C35 -> 0 | AC36: ='Staff Hours'!AR35*'Staff Hours'!$C35 -> 0 | AD36: ='Staff Hours'!AS35 -> 0 | AE36: =C36*AD36 -> 0
A37: ='Staff Hours'!A36 -> 0 | B37: ='Staff Hours'!B36 -> Proj. Mgr. 2 | C37: ='Staff Hours'!C36 -> 0 | E37: ='Staff Hours'!E36*'Staff Hours'!$C36 -> 0 | F37: ='Staff Hours'!F36*'Staff Hours'!$C36 -> 0 | G37: ='Staff Hours'!G36*'Staff Hours'!$C36 -> 0 | H37: ='Staff Hours'!H36*'Staff Hours'!$C36 -> 0 | I37: ='Staff Hours'!I36*'Staff Hours'!$C36 -> 0 | J37: ='Staff Hours'!J36*'Staff Hours'!$C36 -> 0 | K37: ='Staff Hours'!K36*'Staff Hours'!$C36 -> 0 | L37: ='Staff Hours'!L36*'Staff Hours'!$C36 -> 0 | ... AB37: ='Staff Hours'!AB36*'Staff Hours'!$C36 -> 0 | AC37: ='Staff Hours'!AR36*'Staff Hours'!$C36 -> 0 | AD37: ='Staff Hours'!AS36 -> 0 | AE37: =C37*AD37 -> 0
A38: ='Staff Hours'!A37 -> 0 | B38: ='Staff Hours'!B37 -> Proj. Mgr. 3 | C38: ='Staff Hours'!C37 -> 0 | E38: ='Staff Hours'!E37*'Staff Hours'!$C37 -> 0 | F38: ='Staff Hours'!F37*'Staff Hours'!$C37 -> 0 | G38: ='Staff Hours'!G37*'Staff Hours'!$C37 -> 0 | H38: ='Staff Hours'!H37*'Staff Hours'!$C37 -> 0 | I38: ='Staff Hours'!I37*'Staff Hours'!$C37 -> 0 | J38: ='Staff Hours'!J37*'Staff Hours'!$C37 -> 0 | K38: ='Staff Hours'!K37*'Staff Hours'!$C37 -> 0 | L38: ='Staff Hours'!L37*'Staff Hours'!$C37 -> 0 | ... AB38: ='Staff Hours'!AB37*'Staff Hours'!$C37 -> 0 | AC38: ='Staff Hours'!AR37*'Staff Hours'!$C37 -> 0 | AD38: ='Staff Hours'!AS37 -> 0 | AE38: =C38*AD38 -> 0
A39: ='Staff Hours'!A38 -> 0 | B39: ='Staff Hours'!B38 -> Proj. Mgr. 4 | C39: ='Staff Hours'!C38 -> 0 | E39: ='Staff Hours'!E38*'Staff Hours'!$C38 -> 0 | F39: ='Staff Hours'!F38*'Staff Hours'!$C38 -> 0 | G39: ='Staff Hours'!G38*'Staff Hours'!$C38 -> 0 | H39: ='Staff Hours'!H38*'Staff Hours'!$C38 -> 0 | I39: ='Staff Hours'!I38*'Staff Hours'!$C38 -> 0 | J39: ='Staff Hours'!J38*'Staff Hours'!$C38 -> 0 | K39: ='Staff Hours'!K38*'Staff Hours'!$C38 -> 0 | L39: ='Staff Hours'!L38*'Staff Hours'!$C38 -> 0 | ... AB39: ='Staff Hours'!AB38*'Staff Hours'!$C38 -> 0 | AC39: ='Staff Hours'!AR38*'Staff Hours'!$C38 -> 0 | AD39: ='Staff Hours'!AS38 -> 0 | AE39: =C39*AD39 -> 0
A40: ='Staff Hours'!A39 -> 0 | B40: ='Staff Hours'!B39 -> Proj. Engr. 1 | C40: ='Staff Hours'!C39 -> 0 | E40: ='Staff Hours'!E39*'Staff Hours'!$C39 -> 0 | F40: ='Staff Hours'!F39*'Staff Hours'!$C39 -> 0 | G40: ='Staff Hours'!G39*'Staff Hours'!$C39 -> 0 | H40: ='Staff Hours'!H39*'Staff Hours'!$C39 -> 0 | I40: ='Staff Hours'!I39*'Staff Hours'!$C39 -> 0 | J40: ='Staff Hours'!J39*'Staff Hours'!$C39 -> 0 | K40: ='Staff Hours'!K39*'Staff Hours'!$C39 -> 0 | L40: ='Staff Hours'!L39*'Staff Hours'!$C39 -> 0 | ... AB40: ='Staff Hours'!AB39*'Staff Hours'!$C39 -> 0 | AC40: ='Staff Hours'!AR39*'Staff Hours'!$C39 -> 0 | AD40: ='Staff Hours'!AS39 -> 0 | AE40: =C40*AD40 -> 0
A41: ='Staff Hours'!A40 -> 0 | B41: ='Staff Hours'!B40 -> Proj. Engr. 2 | C41: ='Staff Hours'!C40 -> 0 | E41: ='Staff Hours'!E40*'Staff Hours'!$C40 -> 0 | F41: ='Staff Hours'!F40*'Staff Hours'!$C40 -> 0 | G41: ='Staff Hours'!G40*'Staff Hours'!$C40 -> 0 | H41: ='Staff Hours'!H40*'Staff Hours'!$C40 -> 0 | I41: ='Staff Hours'!I40*'Staff Hours'!$C40 -> 0 | J41: ='Staff Hours'!J40*'Staff Hours'!$C40 -> 0 | K41: ='Staff Hours'!K40*'Staff Hours'!$C40 -> 0 | L41: ='Staff Hours'!L40*'Staff Hours'!$C40 -> 0 | ... AB41: ='Staff Hours'!AB40*'Staff Hours'!$C40 -> 0 | AC41: ='Staff Hours'!AR40*'Staff Hours'!$C40 -> 0 | AD41: ='Staff Hours'!AS40 -> 0 | AE41: =C41*AD41 -> 0
A42: ='Staff Hours'!A41 -> 0 | B42: ='Staff Hours'!B41 -> Proj. Engr. 3 | C42: ='Staff Hours'!C41 -> 0 | E42: ='Staff Hours'!E41*'Staff Hours'!$C41 -> 0 | F42: ='Staff Hours'!F41*'Staff Hours'!$C41 -> 0 | G42: ='Staff Hours'!G41*'Staff Hours'!$C41 -> 0 | H42: ='Staff Hours'!H41*'Staff Hours'!$C41 -> 0 | I42: ='Staff Hours'!I41*'Staff Hours'!$C41 -> 0 | J42: ='Staff Hours'!J41*'Staff Hours'!$C41 -> 0 | K42: ='Staff Hours'!K41*'Staff Hours'!$C41 -> 0 | L42: ='Staff Hours'!L41*'Staff Hours'!$C41 -> 0 | ... AB42: ='Staff Hours'!AB41*'Staff Hours'!$C41 -> 0 | AC42: ='Staff Hours'!AR41*'Staff Hours'!$C41 -> 0 | AD42: ='Staff Hours'!AS41 -> 0 | AE42: =C42*AD42 -> 0
A43: ='Staff Hours'!A42 -> 0 | B43: ='Staff Hours'!B42 -> Proj. Engr. 4 | C43: ='Staff Hours'!C42 -> 0 | E43: ='Staff Hours'!E42*'Staff Hours'!$C42 -> 0 | F43: ='Staff Hours'!F42*'Staff Hours'!$C42 -> 0 | G43: ='Staff Hours'!G42*'Staff Hours'!$C42 -> 0 | H43: ='Staff Hours'!H42*'Staff Hours'!$C42 -> 0 | I43: ='Staff Hours'!I42*'Staff Hours'!$C42 -> 0 | J43: ='Staff Hours'!J42*'Staff Hours'!$C42 -> 0 | K43: ='Staff Hours'!K42*'Staff Hours'!$C42 -> 0 | L43: ='Staff Hours'!L42*'Staff Hours'!$C42 -> 0 | ... AB43: ='Staff Hours'!AB42*'Staff Hours'!$C42 -> 0 | AC43: ='Staff Hours'!AR42*'Staff Hours'!$C42 -> 0 | AD43: ='Staff Hours'!AS42 -> 0 | AE43: =C43*AD43 -> 0
A44: ='Staff Hours'!A43 -> 0 | B44: ='Staff Hours'!B43 -> Safety Engr. | C44: ='Staff Hours'!C43 -> 0 | E44: ='Staff Hours'!E43*'Staff Hours'!$C43 -> 0 | F44: ='Staff Hours'!F43*'Staff Hours'!$C43 -> 0 | G44: ='Staff Hours'!G43*'Staff Hours'!$C43 -> 0 | H44: ='Staff Hours'!H43*'Staff Hours'!$C43 -> 0 | I44: ='Staff Hours'!I43*'Staff Hours'!$C43 -> 0 | J44: ='Staff Hours'!J43*'Staff Hours'!$C43 -> 0 | K44: ='Staff Hours'!K43*'Staff Hours'!$C43 -> 0 | L44: ='Staff Hours'!L43*'Staff Hours'!$C43 -> 0 | ... AB44: ='Staff Hours'!AB43*'Staff Hours'!$C43 -> 0 | AC44: ='Staff Hours'!AR43*'Staff Hours'!$C43 -> 0 | AD44: ='Staff Hours'!AS43 -> 0 | AE44: =C44*AD44 -> 0
A45: ='Staff Hours'!A44 -> 0 | B45: ='Staff Hours'!B44 -> General Supt. | C45: ='Staff Hours'!C44 -> 0 | E45: ='Staff Hours'!E44*'Staff Hours'!$C44 -> 0 | F45: ='Staff Hours'!F44*'Staff Hours'!$C44 -> 0 | G45: ='Staff Hours'!G44*'Staff Hours'!$C44 -> 0 | H45: ='Staff Hours'!H44*'Staff Hours'!$C44 -> 0 | I45: ='Staff Hours'!I44*'Staff Hours'!$C44 -> 0 | J45: ='Staff Hours'!J44*'Staff Hours'!$C44 -> 0 | K45: ='Staff Hours'!K44*'Staff Hours'!$C44 -> 0 | L45: ='Staff Hours'!L44*'Staff Hours'!$C44 -> 0 | ... AB45: ='Staff Hours'!AB44*'Staff Hours'!$C44 -> 0 | AC45: ='Staff Hours'!AR44*'Staff Hours'!$C44 -> 0 | AD45: ='Staff Hours'!AS44 -> 0 | AE45: =C45*AD45 -> 0
... A56: ='Staff Hours'!A55 -> 0 | B56: ='Staff Hours'!B55 -> 0 | C56: ='Staff Hours'!C55 -> 0 | E56: ='Staff Hours'!E55*'Staff Hours'!$C55 -> 0 | F56: ='Staff Hours'!F55*'Staff Hours'!$C55 -> 0 | G56: ='Staff Hours'!G55*'Staff Hours'!$C55 -> 0 | H56: ='Staff Hours'!H55*'Staff Hours'!$C55 -> 0 | I56: ='Staff Hours'!I55*'Staff Hours'!$C55 -> 0 | J56: ='Staff Hours'!J55*'Staff Hours'!$C55 -> 0 | K56: ='Staff Hours'!K55*'Staff Hours'!$C55 -> 0 | L56: ='Staff Hours'!L55*'Staff Hours'!$C55 -> 0 | ... AB56: ='Staff Hours'!AB55*'Staff Hours'!$C55 -> 0 | AC56: ='Staff Hours'!AR55*'Staff Hours'!$C55 -> 0 | AD56: ='Staff Hours'!AS55 -> 0 | AE56: =C56*AD56 -> 0
B57: Construction Staff Costs: | E57: =SUM(E34:E56) -> 10 | F57: =SUM(F34:F56) -> 10 | G57: =SUM(G34:G56) -> 10 | H57: =SUM(H34:H56) -> 10 | I57: =SUM(I34:I56) -> 10 | J57: =SUM(J34:J56) -> 10 | K57: =SUM(K34:K56) -> 10 | L57: =SUM(L34:L56) -> 10 | ... AE57: =SUM(AE34:AE56) -> 400 | AF57: =IF('Staff Cashflow'!AE57='Staff Hours'!AT56,"","Check")
B59: Staff Cost Cashflow: | E59: =E29+E57 -> 20 | F59: =F29+F57 -> 20 | G59: =G29+G57 -> 20 | H59: =H29+H57 -> 20 | I59: =I29+I57 -> 20 | J59: =J29+J57 -> 20 | K59: =K29+K57 -> 20 | L59: =L29+L57 -> 20 | ... AE59: =AE29+AE57 -> 800
